BEGIN:VCALENDAR
VERSION:2.0
PRODID:-//pretix//HanaCon_e.V._Pretix//
BEGIN:VEVENT
UID:pretix-KAIDAN-KOI1-0@tickets.koibana.de
DTSTART;VALUE=DATE:20260314
DTEND;VALUE=DATE:20260316
DESCRIPTION:Tickets: https://tickets.koibana.de/\nEinlass: 14.03.2026 12:00
 \nVeranstalter: S.O.D.A. & Tea
DTSTAMP:20260422T222214Z
LOCATION:Alte Lokhalle\, Mombacher Straße 78-80\, 55122 Mainz
SUMMARY:KOIBANA LOVE STORY I
END:VEVENT
END:VCALENDAR
